{
 "currentVersion": 10.91,
 "cimVersion": "2.9.0",
 "serviceDescription": "",
 "mapName": "USGS Topo Quad Map",
 "description": "",
 "copyrightText": "USGS, County of Santa Cruz",
 "supportsDynamicLayers": false,
 "layers": [
  {
   "id": 0,
   "name": "USGS Topo Quad Map",
   "parentLayerId": -1,
   "defaultVisibility": true,
   "subLayerIds": null,
   "minScale": 0,
   "maxScale": 0,
   "type": "Raster Layer",
   "supportsDynamicLegends": true
  }
 ],
 "tables": [],
 "spatialReference": {
  "wkid": 102643,
  "latestWkid": 2227,
  "xyTolerance": 0.003280833333333333,
  "zTolerance": 2,
  "mTolerance": 2,
  "falseX": -115860600,
  "falseY": -93269500,
  "xyUnits": 3.678742734568671E7,
  "falseZ": 0,
  "zUnits": 1,
  "falseM": -100000,
  "mUnits": 10000
 },
 "singleFusedMapCache": true,
 "tileInfo": {
  "rows": 256,
  "cols": 256,
  "dpi": 96,
  "format": "MIXED",
  "compressionQuality": 95,
  "origin": {
   "x": -115860600,
   "y": 151575000
  },
  "spatialReference": {
   "wkid": 102643,
   "latestWkid": 2227,
   "xyTolerance": 0.003280833333333333,
   "zTolerance": 2,
   "mTolerance": 2,
   "falseX": -115860600,
   "falseY": -93269500,
   "xyUnits": 3.678742734568671E7,
   "falseZ": 0,
   "zUnits": 1,
   "falseM": -100000,
   "mUnits": 10000
  },
  "lods": [
   {
    "level": 0,
    "resolution": 239.84375,
    "scale": 276300
   },
   {
    "level": 1,
    "resolution": 159.89583333333331,
    "scale": 184200
   },
   {
    "level": 2,
    "resolution": 106.5625,
    "scale": 122760
   },
   {
    "level": 3,
    "resolution": 71.09375,
    "scale": 81900
   },
   {
    "level": 4,
    "resolution": 47.421875,
    "scale": 54630
   },
   {
    "level": 5,
    "resolution": 31.614583333333332,
    "scale": 36420
   },
   {
    "level": 6,
    "resolution": 21.09375,
    "scale": 24300
   },
   {
    "level": 7,
    "resolution": 14.0625,
    "scale": 16200
   },
   {
    "level": 8,
    "resolution": 9.375,
    "scale": 10800
   },
   {
    "level": 9,
    "resolution": 6.25,
    "scale": 7200
   },
   {
    "level": 10,
    "resolution": 4.166666666666666,
    "scale": 4800
   },
   {
    "level": 11,
    "resolution": 2.8125,
    "scale": 3240
   },
   {
    "level": 12,
    "resolution": 1.875,
    "scale": 2160
   },
   {
    "level": 13,
    "resolution": 1.25,
    "scale": 1440
   },
   {
    "level": 14,
    "resolution": 0.8333333333333333,
    "scale": 960
   },
   {
    "level": 15,
    "resolution": 0.41666666666666663,
    "scale": 480
   },
   {
    "level": 16,
    "resolution": 0.20833333333333331,
    "scale": 240
   }
  ]
 },
 "storageInfo": {
  "storageFormat": "esriMapCacheStorageModeCompactV2",
  "packetSize": 128
 },
 "initialExtent": {
  "xmin": 6050463.542073077,
  "ymin": 1833136.4704751093,
  "xmax": 6182414.909260577,
  "ymax": 1886841.7439126093,
  "spatialReference": {
   "wkid": 102643,
   "latestWkid": 2227,
   "xyTolerance": 0.003280833333333333,
   "zTolerance": 2,
   "mTolerance": 2,
   "falseX": -115860600,
   "falseY": -93269500,
   "xyUnits": 3.678742734568671E7,
   "falseZ": 0,
   "zUnits": 1,
   "falseM": -100000,
   "mUnits": 10000
  }
 },
 "fullExtent": {
  "xmin": 6029816.47318625,
  "ymin": 1767392.098637756,
  "xmax": 6247092.289654947,
  "ymax": 1933718.025555165,
  "spatialReference": {
   "wkid": 102643,
   "latestWkid": 2227,
   "xyTolerance": 0.003280833333333333,
   "zTolerance": 2,
   "mTolerance": 2,
   "falseX": -115860600,
   "falseY": -93269500,
   "xyUnits": 3.678742734568671E7,
   "falseZ": 0,
   "zUnits": 1,
   "falseM": -100000,
   "mUnits": 10000
  }
 },
 "datesInUnknownTimezone": false,
 "minScale": 276300,
 "maxScale": 3240,
 "units": "esriFeet",
 "supportedImageFormatTypes": "PNG32,PNG24,PNG,JPG,DIB,TIFF,EMF,PS,PDF,GIF,SVG,SVGZ,BMP",
 "documentInfo": {
  "Title": "",
  "Author": "",
  "Comments": "",
  "Subject": "USGS Topographic Map Image",
  "Category": "",
  "AntialiasingMode": "None",
  "TextAntialiasingMode": "Force",
  "Version": "10.1",
  "Keywords": "USGS,quad,topo,topographic"
 },
 "supportsQueryDomains": true,
 "capabilities": "Map,Query,Data",
 "supportedQueryFormats": "JSON, geoJSON, PBF",
 "exportTilesAllowed": false,
 "referenceScale": 0.0,
 "supportsDatumTransformation": true,
 "archivingInfo": {
  "supportsHistoricMoment": false
 },
 "supportsClipping": true,
 "supportsSpatialFilter": true,
 "supportsTimeRelation": true,
 "supportsQueryDataElements": true,
 "maxRecordCount": 1000,
 "maxImageHeight": 4096,
 "maxImageWidth": 4096,
 "supportedExtensions": "",
 "serviceItemId": "649c350617da447dbfd6df9a8a4d8592"
}
