{
 "currentVersion": 10.91,
 "serviceDescription": "Aerial orthoimagery map of Santa Cruz County and surrounding area. Photos were captured during the summer of 2016. Imagery from the National Agriculture Image Program (NAIP) at 24-inch resolution is visible at small-scales (zoomed out). At larger scales, the imagery is split between 9-inch resolution in the rural areas and 3-inch resolution in the urban areas.",
 "mapName": "2016 Imagery Basemap",
 "description": "Map of Santa Cruz County featuring orthoimagery captured in 2016.",
 "copyrightText": "County of Santa Cruz",
 "supportsDynamicLayers": false,
 "layers": [
  {
   "id": 0,
   "name": "County Boundary",
   "parentLayerId": -1,
   "defaultVisibility": true,
   "subLayerIds": null,
   "minScale": 0,
   "maxScale": 0,
   "type": "Feature Layer",
   "geometryType": "esriGeometryPolyline"
  },
  {
   "id": 1,
   "name": "Ocean Mask",
   "parentLayerId": -1,
   "defaultVisibility": true,
   "subLayerIds": null,
   "minScale": 0,
   "maxScale": 0,
   "type": "Feature Layer",
   "geometryType": "esriGeometryPolygon"
  },
  {
   "id": 2,
   "name": "County Ortho 2016 3in",
   "parentLayerId": -1,
   "defaultVisibility": true,
   "subLayerIds": null,
   "minScale": 36420,
   "maxScale": 0,
   "type": "Raster Layer"
  },
  {
   "id": 3,
   "name": "County Ortho 2016 9in",
   "parentLayerId": -1,
   "defaultVisibility": true,
   "subLayerIds": null,
   "minScale": 36420,
   "maxScale": 0,
   "type": "Raster Layer"
  },
  {
   "id": 4,
   "name": "Ocean Mask",
   "parentLayerId": -1,
   "defaultVisibility": true,
   "subLayerIds": null,
   "minScale": 0,
   "maxScale": 0,
   "type": "Feature Layer",
   "geometryType": "esriGeometryPolygon"
  },
  {
   "id": 5,
   "name": "NAIP 2016 Mask",
   "parentLayerId": -1,
   "defaultVisibility": true,
   "subLayerIds": null,
   "minScale": 0,
   "maxScale": 7200,
   "type": "Raster Layer"
  },
  {
   "id": 6,
   "name": "NAIP 2016",
   "parentLayerId": -1,
   "defaultVisibility": true,
   "subLayerIds": null,
   "minScale": 0,
   "maxScale": 36420,
   "type": "Raster Layer"
  }
 ],
 "tables": [],
 "spatialReference": {
  "wkid": 102643,
  "latestWkid": 2227
 },
 "singleFusedMapCache": true,
 "tileInfo": {
  "rows": 256,
  "cols": 256,
  "dpi": 96,
  "format": "PNG32",
  "compressionQuality": 0,
  "origin": {
   "x": -115860600,
   "y": 151575000
  },
  "spatialReference": {
   "wkid": 102643,
   "latestWkid": 2227
  },
  "lods": [
   {
    "level": 0,
    "resolution": 239.84375,
    "scale": 276300
   },
   {
    "level": 1,
    "resolution": 159.89583333333331,
    "scale": 184200
   },
   {
    "level": 2,
    "resolution": 106.5625,
    "scale": 122760
   },
   {
    "level": 3,
    "resolution": 71.09375,
    "scale": 81900
   },
   {
    "level": 4,
    "resolution": 47.421875,
    "scale": 54630
   },
   {
    "level": 5,
    "resolution": 31.614583333333332,
    "scale": 36420
   },
   {
    "level": 6,
    "resolution": 21.09375,
    "scale": 24300
   },
   {
    "level": 7,
    "resolution": 14.0625,
    "scale": 16200
   },
   {
    "level": 8,
    "resolution": 9.375,
    "scale": 10800
   },
   {
    "level": 9,
    "resolution": 6.25,
    "scale": 7200
   },
   {
    "level": 10,
    "resolution": 4.166666666666666,
    "scale": 4800
   },
   {
    "level": 11,
    "resolution": 2.8125,
    "scale": 3240
   },
   {
    "level": 12,
    "resolution": 1.875,
    "scale": 2160
   },
   {
    "level": 13,
    "resolution": 1.25,
    "scale": 1440
   },
   {
    "level": 14,
    "resolution": 0.8333333333333333,
    "scale": 960
   },
   {
    "level": 15,
    "resolution": 0.41666666666666663,
    "scale": 480
   },
   {
    "level": 16,
    "resolution": 0.20833333333333331,
    "scale": 240
   }
  ]
 },
 "initialExtent": {
  "xmin": 6000271.771639635,
  "ymin": 1790371.094369471,
  "xmax": 6259310.448722969,
  "ymax": 1971626.146452805,
  "spatialReference": {
   "wkid": 102643,
   "latestWkid": 2227
  }
 },
 "fullExtent": {
  "xmin": 5857890.937505041,
  "ymin": 1659390.8838718801,
  "xmax": 6501539.650562578,
  "ymax": 2020067.9672054227,
  "spatialReference": {
   "wkid": 102643,
   "latestWkid": 2227
  }
 },
 "minScale": 276300,
 "maxScale": 240,
 "units": "esriFeet",
 "supportedImageFormatTypes": "PNG32,PNG24,PNG,JPG,DIB,TIFF,EMF,PS,PDF,GIF,SVG,SVGZ,BMP",
 "documentInfo": {
  "Title": "Imagery 2016",
  "Author": "County of Santa Cruz",
  "Comments": "Aerial orthoimagery of Santa Cruz County and surrounding area. Imagery was captured in summer of 2016. ",
  "Subject": "Orthoimagery of Santa Cruz County and surrounding area from summer 2016.",
  "Category": "",
  "AntialiasingMode": "None",
  "TextAntialiasingMode": "Force",
  "Keywords": "aerial,ortho,orthoimagery,photo,photography,image,imagery,satellite,basemap,2016"
 },
 "capabilities": "Map",
 "supportedQueryFormats": "JSON, geoJSON",
 "exportTilesAllowed": true,
 "maxExportTilesCount": 10000,
 "referenceScale": 0,
 "datumTransformations": [
  {
   "geoTransforms": [
    {
     "wkid": 8494,
     "latestWkid": 1515,
     "transformForward": false,
     "name": "NAD_1983_To_WGS_1984_5"
    }
   ]
  },
  {
   "geoTransforms": [
    {
     "wkid": 8494,
     "latestWkid": 1515,
     "transformForward": true,
     "name": "NAD_1983_To_WGS_1984_5"
    }
   ]
  }
 ],
 "supportsDatumTransformation": true,
 "maxRecordCount": 1000,
 "maxImageHeight": 4096,
 "maxImageWidth": 4096,
 "supportedExtensions": "",
 "serviceItemId": "832c4fabc6264d77a8c69286a83ea4f4"
}
