{
 "currentVersion": 10.91,
 "serviceDescription": "Aerial imagery of Santa Cruz County from 2007",
 "mapName": "Layers",
 "description": "",
 "copyrightText": "County of Santa Cruz",
 "supportsDynamicLayers": false,
 "layers": [
  {
   "id": 0,
   "name": "County Mask",
   "parentLayerId": -1,
   "defaultVisibility": true,
   "subLayerIds": null,
   "minScale": 0,
   "maxScale": 0,
   "type": "Feature Layer",
   "geometryType": "esriGeometryPolygon"
  },
  {
   "id": 1,
   "name": "Imagery 2007 03IN",
   "parentLayerId": -1,
   "defaultVisibility": true,
   "subLayerIds": null,
   "minScale": 0,
   "maxScale": 0,
   "type": "Raster Layer"
  },
  {
   "id": 2,
   "name": "Imagery 2007 12IN",
   "parentLayerId": -1,
   "defaultVisibility": true,
   "subLayerIds": null,
   "minScale": 0,
   "maxScale": 0,
   "type": "Raster Layer"
  }
 ],
 "tables": [],
 "spatialReference": {
  "wkt": "PROJCS[\"NAD_1983_StatePlane_California_III_FIPS_0403_Feet\",GEOGCS[\"GCS_North_American_1983\",DATUM[\"D_North_American_1983\",SPHEROID[\"GRS_1980\",6378137.0,298.257222101]],PRIMEM[\"Greenwich\",0.0],UNIT[\"Degree\",0.0174532925199433]],PROJECTION[\"Lambert_Conformal_Conic\"],PARAMETER[\"False_Easting\",6561666.666666666],PARAMETER[\"False_Northing\",1640416.666666667],PARAMETER[\"Central_Meridian\",-120.5],PARAMETER[\"Standard_Parallel_1\",37.06666666666667],PARAMETER[\"Standard_Parallel_2\",38.43333333333333],PARAMETER[\"Latitude_Of_Origin\",36.5],UNIT[\"Foot_US\",0.3048006096012192]],VERTCS[\"NAVD_1988\",VDATUM[\"North_American_Vertical_Datum_1988\"],PARAMETER[\"Vertical_Shift\",0.0],PARAMETER[\"Direction\",1.0],UNIT[\"Foot_US\",0.3048006096012192]]"
 },
 "singleFusedMapCache": true,
 "tileInfo": {
  "rows": 256,
  "cols": 256,
  "dpi": 96,
  "format": "MIXED",
  "compressionQuality": 95,
  "origin": {
   "x": -115860600,
   "y": 151575000
  },
  "spatialReference": {
   "wkid": 102643,
   "latestWkid": 2227
  },
  "lods": [
   {
    "level": 0,
    "resolution": 239.84375,
    "scale": 276300
   },
   {
    "level": 1,
    "resolution": 159.89583333333331,
    "scale": 184200
   },
   {
    "level": 2,
    "resolution": 106.5625,
    "scale": 122760
   },
   {
    "level": 3,
    "resolution": 71.09375,
    "scale": 81900
   },
   {
    "level": 4,
    "resolution": 47.421875,
    "scale": 54630
   },
   {
    "level": 5,
    "resolution": 31.614583333333332,
    "scale": 36420
   },
   {
    "level": 6,
    "resolution": 21.09375,
    "scale": 24300
   },
   {
    "level": 7,
    "resolution": 14.0625,
    "scale": 16200
   },
   {
    "level": 8,
    "resolution": 9.375,
    "scale": 10800
   },
   {
    "level": 9,
    "resolution": 6.25,
    "scale": 7200
   },
   {
    "level": 10,
    "resolution": 4.166666666666666,
    "scale": 4800
   },
   {
    "level": 11,
    "resolution": 2.8125,
    "scale": 3240
   },
   {
    "level": 12,
    "resolution": 1.875,
    "scale": 2160
   },
   {
    "level": 13,
    "resolution": 1.25,
    "scale": 1440
   },
   {
    "level": 14,
    "resolution": 0.8333333333333333,
    "scale": 960
   },
   {
    "level": 15,
    "resolution": 0.41666666666666663,
    "scale": 480
   },
   {
    "level": 16,
    "resolution": 0.20833333333333331,
    "scale": 240
   }
  ]
 },
 "initialExtent": {
  "xmin": 5948023.425205137,
  "ymin": 1786008.8550090587,
  "xmax": 6304771.779371803,
  "ymax": 1967263.9070923922,
  "spatialReference": {
   "wkt": "PROJCS[\"NAD_1983_StatePlane_California_III_FIPS_0403_Feet\",GEOGCS[\"GCS_North_American_1983\",DATUM[\"D_North_American_1983\",SPHEROID[\"GRS_1980\",6378137.0,298.257222101]],PRIMEM[\"Greenwich\",0.0],UNIT[\"Degree\",0.0174532925199433]],PROJECTION[\"Lambert_Conformal_Conic\"],PARAMETER[\"False_Easting\",6561666.666666666],PARAMETER[\"False_Northing\",1640416.666666667],PARAMETER[\"Central_Meridian\",-120.5],PARAMETER[\"Standard_Parallel_1\",37.06666666666667],PARAMETER[\"Standard_Parallel_2\",38.43333333333333],PARAMETER[\"Latitude_Of_Origin\",36.5],UNIT[\"Foot_US\",0.3048006096012192]],VERTCS[\"NAVD_1988\",VDATUM[\"North_American_Vertical_Datum_1988\"],PARAMETER[\"Vertical_Shift\",0.0],PARAMETER[\"Direction\",1.0],UNIT[\"Foot_US\",0.3048006096012192]]"
  }
 },
 "fullExtent": {
  "xmin": 5868947.135563135,
  "ymin": 1661401.1968729794,
  "xmax": 6383848.069013804,
  "ymax": 2018889.3985618055,
  "spatialReference": {
   "wkt": "PROJCS[\"NAD_1983_StatePlane_California_III_FIPS_0403_Feet\",GEOGCS[\"GCS_North_American_1983\",DATUM[\"D_North_American_1983\",SPHEROID[\"GRS_1980\",6378137.0,298.257222101]],PRIMEM[\"Greenwich\",0.0],UNIT[\"Degree\",0.0174532925199433]],PROJECTION[\"Lambert_Conformal_Conic\"],PARAMETER[\"False_Easting\",6561666.666666666],PARAMETER[\"False_Northing\",1640416.666666667],PARAMETER[\"Central_Meridian\",-120.5],PARAMETER[\"Standard_Parallel_1\",37.06666666666667],PARAMETER[\"Standard_Parallel_2\",38.43333333333333],PARAMETER[\"Latitude_Of_Origin\",36.5],UNIT[\"Foot_US\",0.3048006096012192]],VERTCS[\"NAVD_1988\",VDATUM[\"North_American_Vertical_Datum_1988\"],PARAMETER[\"Vertical_Shift\",0.0],PARAMETER[\"Direction\",1.0],UNIT[\"Foot_US\",0.3048006096012192]]"
  }
 },
 "minScale": 276300,
 "maxScale": 240,
 "minLOD": 0,
 "maxLOD": 16,
 "units": "esriFeet",
 "supportedImageFormatTypes": "PNG32,PNG24,PNG,JPG,DIB,TIFF,EMF,PS,PDF,GIF,SVG,SVGZ,BMP",
 "documentInfo": {
  "Title": "",
  "Author": "",
  "Comments": "",
  "Subject": "",
  "Category": "",
  "AntialiasingMode": "None",
  "TextAntialiasingMode": "Force",
  "Keywords": "aerial,imagery,ortho,orthoimagery,photo,satellite"
 },
 "capabilities": "Map,Query,Data",
 "supportedQueryFormats": "JSON, geoJSON",
 "exportTilesAllowed": false,
 "referenceScale": 0,
 "datumTransformations": [
  {
   "geoTransforms": [
    {
     "wkid": 108001,
     "latestWkid": 1241,
     "transformForward": true,
     "name": "NAD_1927_To_NAD_1983_NADCON"
    }
   ]
  },
  {
   "geoTransforms": [
    {
     "wkid": 108001,
     "latestWkid": 1241,
     "transformForward": false,
     "name": "NAD_1927_To_NAD_1983_NADCON"
    }
   ]
  }
 ],
 "supportsDatumTransformation": true,
 "maxRecordCount": 1000,
 "maxImageHeight": 2048,
 "maxImageWidth": 2048,
 "supportedExtensions": "KmlServer",
 "resampling": true,
 "serviceItemId": "7d3d3d86bda24ddfb2345eabcec822f5"
}
