{
 "currentVersion": 10.91,
 "serviceDescription": "This hillshade map helps reveal elevation information in Santa Cruz County, California. The map was created from LiDAR data collected in 2010, which was used to build a Digital Elevation Model (DEM) and then visualized using a traditional hillshade raster function.",
 "mapName": "Hillshade Dark",
 "description": "",
 "copyrightText": "County of Santa Cruz",
 "supportsDynamicLayers": false,
 "layers": [
  {
   "id": 0,
   "name": "County Mask",
   "parentLayerId": -1,
   "defaultVisibility": true,
   "subLayerIds": null,
   "minScale": 0,
   "maxScale": 14400,
   "type": "Feature Layer",
   "geometryType": "esriGeometryPolygon"
  },
  {
   "id": 1,
   "name": "Hillshade",
   "parentLayerId": -1,
   "defaultVisibility": true,
   "subLayerIds": null,
   "minScale": 0,
   "maxScale": 0,
   "type": "Raster Layer"
  }
 ],
 "tables": [],
 "spatialReference": {
  "wkid": 102643,
  "latestWkid": 2227
 },
 "singleFusedMapCache": true,
 "tileInfo": {
  "rows": 256,
  "cols": 256,
  "dpi": 96,
  "format": "MIXED",
  "compressionQuality": 95,
  "origin": {
   "x": -115860600,
   "y": 151575000
  },
  "spatialReference": {
   "wkid": 102643,
   "latestWkid": 2227
  },
  "lods": [
   {
    "level": 0,
    "resolution": 239.84375,
    "scale": 276300
   },
   {
    "level": 1,
    "resolution": 159.89583333333331,
    "scale": 184200
   },
   {
    "level": 2,
    "resolution": 106.5625,
    "scale": 122760
   },
   {
    "level": 3,
    "resolution": 71.09375,
    "scale": 81900
   },
   {
    "level": 4,
    "resolution": 47.421875,
    "scale": 54630
   },
   {
    "level": 5,
    "resolution": 31.614583333333332,
    "scale": 36420
   },
   {
    "level": 6,
    "resolution": 21.09375,
    "scale": 24300
   },
   {
    "level": 7,
    "resolution": 14.0625,
    "scale": 16200
   },
   {
    "level": 8,
    "resolution": 9.375,
    "scale": 10800
   },
   {
    "level": 9,
    "resolution": 6.25,
    "scale": 7200
   },
   {
    "level": 10,
    "resolution": 4.166666666666666,
    "scale": 4800
   },
   {
    "level": 11,
    "resolution": 2.8125,
    "scale": 3240
   },
   {
    "level": 12,
    "resolution": 1.875,
    "scale": 2160
   },
   {
    "level": 13,
    "resolution": 1.25,
    "scale": 1440
   },
   {
    "level": 14,
    "resolution": 0.8333333333333333,
    "scale": 960
   },
   {
    "level": 15,
    "resolution": 0.41666666666666663,
    "scale": 480
   },
   {
    "level": 16,
    "resolution": 0.20833333333333331,
    "scale": 240
   }
  ]
 },
 "initialExtent": {
  "xmin": 5962890.501824235,
  "ymin": 1722952.8445935356,
  "xmax": 6327614.84005756,
  "ymax": 1964759.1828268603,
  "spatialReference": {
   "wkid": 102643,
   "latestWkid": 2227
  }
 },
 "fullExtent": {
  "xmin": 5868947.135563135,
  "ymin": 1661401.1968729794,
  "xmax": 6383848.069013804,
  "ymax": 2018889.3985618055,
  "spatialReference": {
   "wkid": 102643,
   "latestWkid": 2227
  }
 },
 "minScale": 276300,
 "maxScale": 240,
 "units": "esriFeet",
 "supportedImageFormatTypes": "PNG32,PNG24,PNG,JPG,DIB,TIFF,EMF,PS,PDF,GIF,SVG,SVGZ,BMP",
 "documentInfo": {
  "Title": "Hillshade Dark",
  "Author": "County of Santa Cruz",
  "Comments": "This hillshade map helps reveal elevation information in Santa Cruz County, California. The map was created from LiDAR data collected in 2010, which was used to build a Digital Elevation Model (DEM) and then visualized using a traditional hillshade raster function.",
  "Subject": "A hillshade map of Santa Cruz County, CA based on elevation data collected from a 2010 LiDAR collection project.",
  "Category": "",
  "AntialiasingMode": "None",
  "TextAntialiasingMode": "None",
  "Keywords": "hillshade,elevation,Santa Cruz County,LiDAR,DEM,basemap,cached"
 },
 "capabilities": "Map",
 "supportedQueryFormats": "JSON, geoJSON",
 "exportTilesAllowed": false,
 "referenceScale": 0,
 "supportsDatumTransformation": true,
 "maxRecordCount": 1000,
 "maxImageHeight": 4096,
 "maxImageWidth": 4096,
 "supportedExtensions": "",
 "serviceItemId": "d44926f8cbbb472b9491241a26418617"
}
