{
 "currentVersion": 10.91,
 "cimVersion": "2.9.0",
 "serviceDescription": "This 3-foot resolution hillshadedepicts shaded relief based on the Digital Terrain Model. Hillshades are usefulfor visual reference when mapping features such as roads and drainagesand for visualizingphysical geography. The hillshade represents the state of the landscape when countywide LiDAR data was collected in 2018 and 2020. Figure 1shows the vintages of LiDAR contained in this raster. Quality level 1 LiDAR (QL1, redareas in figure 1) was collected in 2018. Quality level 2 LiDAR (QL2) was collected in summer, 2020.",
 "mapName": "Layers",
 "description": "",
 "copyrightText": " San Mateo County Resource Conservation District, Cal Fire, California Department of Parks and Recreation, Tukman Geospatial LLC, MidPeninsula Regional Open SpaceDistrict",
 "supportsDynamicLayers": true,
 "layers": [
  {
   "id": 0,
   "name": "IMG.DBO.HILLSHADE_2018_2020_3FT_COUNTYWIDE",
   "parentLayerId": -1,
   "defaultVisibility": true,
   "subLayerIds": null,
   "minScale": 0,
   "maxScale": 0,
   "type": "Raster Layer",
   "supportsDynamicLegends": true
  }
 ],
 "tables": [],
 "spatialReference": {
  "wkid": 102643,
  "latestWkid": 2227,
  "vcsWkid": 105703,
  "latestVcsWkid": 6360,
  "xyTolerance": 0.003280833333333333,
  "zTolerance": 2,
  "mTolerance": 0.001,
  "falseX": -115860600,
  "falseY": -93269500,
  "xyUnits": 3.678742734568671E7,
  "falseZ": 0,
  "zUnits": 1,
  "falseM": -100000,
  "mUnits": 10000
 },
 "singleFusedMapCache": true,
 "tileInfo": {
  "rows": 256,
  "cols": 256,
  "dpi": 96,
  "format": "MIXED",
  "compressionQuality": 95,
  "origin": {
   "x": -115860600,
   "y": 151575000
  },
  "spatialReference": {
   "wkid": 102643,
   "latestWkid": 2227,
   "xyTolerance": 0.003280833333333333,
   "zTolerance": 0.001,
   "mTolerance": 0.001,
   "falseX": -115860600,
   "falseY": -93269500,
   "xyUnits": 3.678742734568671E7,
   "falseZ": -100000,
   "zUnits": 10000,
   "falseM": -100000,
   "mUnits": 10000
  },
  "lods": [
   {
    "level": 0,
    "resolution": 239.84375,
    "scale": 276300
   },
   {
    "level": 1,
    "resolution": 159.89583333333331,
    "scale": 184200
   },
   {
    "level": 2,
    "resolution": 106.5625,
    "scale": 122760
   },
   {
    "level": 3,
    "resolution": 71.09375,
    "scale": 81900
   },
   {
    "level": 4,
    "resolution": 47.421875,
    "scale": 54630
   },
   {
    "level": 5,
    "resolution": 31.614583333333332,
    "scale": 36420
   },
   {
    "level": 6,
    "resolution": 21.09375,
    "scale": 24300
   },
   {
    "level": 7,
    "resolution": 14.0625,
    "scale": 16200
   },
   {
    "level": 8,
    "resolution": 9.375,
    "scale": 10800
   },
   {
    "level": 9,
    "resolution": 6.25,
    "scale": 7200
   },
   {
    "level": 10,
    "resolution": 4.166666666666666,
    "scale": 4800
   },
   {
    "level": 11,
    "resolution": 2.8125,
    "scale": 3240
   },
   {
    "level": 12,
    "resolution": 1.875,
    "scale": 2160
   },
   {
    "level": 13,
    "resolution": 1.25,
    "scale": 1440
   },
   {
    "level": 14,
    "resolution": 0.8333333333333333,
    "scale": 960
   },
   {
    "level": 15,
    "resolution": 0.41666666666666663,
    "scale": 480
   },
   {
    "level": 16,
    "resolution": 0.20833333333333331,
    "scale": 240
   }
  ]
 },
 "storageInfo": {
  "storageFormat": "esriMapCacheStorageModeCompactV2",
  "packetSize": 128
 },
 "initialExtent": {
  "xmin": 6007560.943527715,
  "ymin": 1833676.045610757,
  "xmax": 6264288.374083271,
  "ymax": 1925472.920610757,
  "spatialReference": {
   "wkid": 102643,
   "latestWkid": 2227,
   "vcsWkid": 105703,
   "latestVcsWkid": 6360,
   "xyTolerance": 0.003280833333333333,
   "zTolerance": 2,
   "mTolerance": 0.001,
   "falseX": -115860600,
   "falseY": -93269500,
   "xyUnits": 3.678742734568671E7,
   "falseZ": 0,
   "zUnits": 1,
   "falseM": -100000,
   "mUnits": 10000
  }
 },
 "fullExtent": {
  "xmin": 6007560.943527715,
  "ymin": 1767703.8233885353,
  "xmax": 6264288.374083271,
  "ymax": 1925472.920610757,
  "spatialReference": {
   "wkid": 102643,
   "latestWkid": 2227,
   "vcsWkid": 105703,
   "latestVcsWkid": 6360,
   "xyTolerance": 0.003280833333333333,
   "zTolerance": 2,
   "mTolerance": 0.001,
   "falseX": -115860600,
   "falseY": -93269500,
   "xyUnits": 3.678742734568671E7,
   "falseZ": 0,
   "zUnits": 1,
   "falseM": -100000,
   "mUnits": 10000
  }
 },
 "datesInUnknownTimezone": false,
 "minScale": 276300,
 "maxScale": 960,
 "minLOD": 0,
 "maxLOD": 14,
 "units": "esriFeet",
 "supportedImageFormatTypes": "PNG32,PNG24,PNG,JPG,DIB,TIFF,EMF,PS,PDF,GIF,SVG,SVGZ,BMP",
 "documentInfo": {
  "Title": "",
  "Author": "",
  "Comments": "",
  "Subject": "",
  "Category": "",
  "AntialiasingMode": "None",
  "TextAntialiasingMode": "None",
  "Version": "10.1",
  "Keywords": "Hillshade"
 },
 "supportsQueryDomains": true,
 "capabilities": "Map,Query",
 "supportedQueryFormats": "JSON, geoJSON, PBF",
 "exportTilesAllowed": false,
 "referenceScale": 0.0,
 "datumTransformations": [
  {
   "geoTransforms": [
    {
     "wkid": 108354,
     "latestWkid": 108354,
     "transformForward": false,
     "name": "WGS_1984_(ITRF00)_To_NAD_1983_2011"
    },
    {
     "wkid": 8494,
     "latestWkid": 1515,
     "transformForward": false,
     "name": "NAD_1983_To_WGS_1984_5"
    }
   ]
  },
  {
   "geoTransforms": [
    {
     "wkid": 8494,
     "latestWkid": 1515,
     "transformForward": true,
     "name": "NAD_1983_To_WGS_1984_5"
    },
    {
     "wkid": 108354,
     "latestWkid": 108354,
     "transformForward": true,
     "name": "WGS_1984_(ITRF00)_To_NAD_1983_2011"
    }
   ]
  }
 ],
 "supportsDatumTransformation": true,
 "heightModelInfo": {
  "heightModel": "gravity_related_height",
  "vertCRS": "NAVD88_height_(ftUS)",
  "heightUnit": "us-foot"
 },
 "supportsVCSProjection": true,
 "archivingInfo": {
  "supportsHistoricMoment": false
 },
 "supportsClipping": true,
 "supportsSpatialFilter": true,
 "supportsTimeRelation": true,
 "supportsQueryDataElements": true,
 "maxRecordCount": 1000,
 "maxImageHeight": 4096,
 "maxImageWidth": 4096,
 "supportedExtensions": "",
 "serviceItemId": "b3dba965d2ba4e1da3d378cfdcc61d10"
}
